BEGIN:VCALENDAR
VERSION:2.0
PRODID:-//Gold and Silver Stacker Events - ECPv6.15.20//NONSGML v1.0//EN
CALSCALE:GREGORIAN
METHOD:PUBLISH
X-WR-CALNAME:Gold and Silver Stacker Events
X-ORIGINAL-URL:https://goldandsilverstackerevents.com
X-WR-CALDESC:Events for Gold and Silver Stacker Events
REFRESH-INTERVAL;VALUE=DURATION:PT1H
X-Robots-Tag:noindex
X-PUBLISHED-TTL:PT1H
BEGIN:VTIMEZONE
TZID:America/New_York
BEGIN:DAYLIGHT
TZOFFSETFROM:-0500
TZOFFSETTO:-0400
TZNAME:EDT
DTSTART:20240310T070000
END:DAYLIGHT
BEGIN:STANDARD
TZOFFSETFROM:-0400
TZOFFSETTO:-0500
TZNAME:EST
DTSTART:20241103T060000
END:STANDARD
BEGIN:DAYLIGHT
TZOFFSETFROM:-0500
TZOFFSETTO:-0400
TZNAME:EDT
DTSTART:20250309T070000
END:DAYLIGHT
BEGIN:STANDARD
TZOFFSETFROM:-0400
TZOFFSETTO:-0500
TZNAME:EST
DTSTART:20251102T060000
END:STANDARD
BEGIN:DAYLIGHT
TZOFFSETFROM:-0500
TZOFFSETTO:-0400
TZNAME:EDT
DTSTART:20260308T070000
END:DAYLIGHT
BEGIN:STANDARD
TZOFFSETFROM:-0400
TZOFFSETTO:-0500
TZNAME:EST
DTSTART:20261101T060000
END:STANDARD
BEGIN:DAYLIGHT
TZOFFSETFROM:-0500
TZOFFSETTO:-0400
TZNAME:EDT
DTSTART:20270314T070000
END:DAYLIGHT
BEGIN:STANDARD
TZOFFSETFROM:-0400
TZOFFSETTO:-0500
TZNAME:EST
DTSTART:20271107T060000
END:STANDARD
END:VTIMEZONE
BEGIN:VEVENT
DTSTART;TZID=America/New_York:20260131T160000
DTEND;TZID=America/New_York:20260131T173000
DTSTAMP:20260423T145354
CREATED:20250813T231233Z
LAST-MODIFIED:20251031T180242Z
UID:230-1769875200-1769880600@goldandsilverstackerevents.com
SUMMARY:Metalstacks – Texarkana\, Texas Coin Show
DESCRIPTION:Join us for a FREE in depth look at what Metalstacks Coin Collecting Club has to offer.  We realize your time is valuable and will focus our time together buy giving you options for how to buy gold and silver at dealer direct pricing and if you decide 6 additional ways to earn income on top of the savings received buying at dealer direct prices. \nThe presentation lasts approximately an hour and a half as we explore the different aspects of Metal Stacks\, answer your questions and every 30 minutes there will be a FREE give away. \nPresentation of this ticket grants FREE entry on January 31\, 2026 to the coin show and Metalstack event.  Show hours are 9am-5pm.\nWe look forward to seeing you at the event!
URL:https://goldandsilverstackerevents.com/event/metal-stacks-texarkana-texas-coin-show/
LOCATION:Holiday Inn\, 5200 Convention Plaza Drive\, Texarkana\, TX\, 71854\, United States
END:VEVENT
BEGIN:VEVENT
DTSTART;TZID=America/New_York:20251122T110000
DTEND;TZID=America/New_York:20251122T180000
DTSTAMP:20260423T145354
CREATED:20250826T222130Z
LAST-MODIFIED:20251031T175919Z
UID:286-1763809200-1763834400@goldandsilverstackerevents.com
SUMMARY:1st Annual Oklahoma MetalStacks Regional Coin Club Conference
DESCRIPTION:Join us for our first Annual Oklahoma Metalstacks Regional Coin Club Conference.  The conference is free for non members.  Together we will take an in depth look at what Metalstacks Coin Collecting Club has to offer.  We realize your time is valuable and will focus our time together buy giving you options for how to buy gold and silver at dealer direct pricing and then dive into 6 additional ways you can choose from to earn income on top of the savings received buying at dealer direct prices. \nAlong the way we will be be taking time to do FREE door prize drawings for over $5000.00 in silver. \nDuring the conference we will take the time to answer all your questions concerning the different aspects of Metal Stacks in order to meet your personal goals. \nPresentation of this ticket grants FREE entry on November 22\, 2025 to the coin club and Metalstack Conference. \nWe look forward to seeing you at the conference!
URL:https://goldandsilverstackerevents.com/event/1st-annual-oklahoma-metalstacks-regional-coin-club-conference/
LOCATION:Holiday Inn Oklahoma City – Quail Springs\, 13800 Quail Springs Parkway\, OKC\, OK\, 73134\, United States
END:VEVENT
BEGIN:VEVENT
DTSTART;TZID=America/New_York:20251029T200000
DTEND;TZID=America/New_York:20251029T210000
DTSTAMP:20260423T145354
CREATED:20251024T235602Z
LAST-MODIFIED:20251028T030216Z
UID:316-1761768000-1761771600@goldandsilverstackerevents.com
SUMMARY:MetalStacks - Greenville\, PA
DESCRIPTION:Join us for a FREE in depth look at MetalStacks  Coin Collecting Club.  We realize your time is valuable and will focus our time together discussing how to buy precious metals at Wholesale discounts or Dealer Direct pricing through our Bullion Club and discuss the benefits of becoming a Metalstacks Independent Distributor. \nJoin the 200+ Million Americans who purchase metals every single day! \nThe presentation lasts approximately 1 hour as we explore how to maximize your precious metal buying power  and answer your questions. \nWe look forward to seeing you at the event!
URL:https://goldandsilverstackerevents.com/event/metalstacks-greenville-pa/
LOCATION:Cobblestone Hotel\, 81 Hadley Road\, Greenville\, 16125\, United States
ORGANIZER;CN="Andrew E. Graber":MAILTO:andrew@aegraber.com
END:VEVENT
BEGIN:VEVENT
DTSTART;TZID=America/New_York:20251029T180000
DTEND;TZID=America/New_York:20251029T190000
DTSTAMP:20260423T145354
CREATED:20251024T185945Z
LAST-MODIFIED:20251028T010130Z
UID:304-1761760800-1761764400@goldandsilverstackerevents.com
SUMMARY:MetalStacks Bullion Club- Greenville\, PA
DESCRIPTION:  \nJoin us for a FREE in depth look at MetalStacks  Bullion Club.  We realize your time is valuable and will focus our time together discussing how to buy precious metals at Wholesale discounts or Dealer Direct pricing. \nJoin the 200+ Million Americans who purchase metals every single day! \nThe presentation lasts approximately 30 minutes as we explore how to maximize your precious metal buying power. \nWe look forward to seeing you at the event!
URL:https://goldandsilverstackerevents.com/event/metalstacks-bullion-club-greenville-pa/
LOCATION:Cobblestone Hotel\, 81 Hadley Road\, Greenville\, 16125\, United States
ORGANIZER;CN="Andrew E. Graber":MAILTO:andrew@aegraber.com
END:VEVENT
BEGIN:VEVENT
DTSTART;TZID=America/New_York:20251025T160000
DTEND;TZID=America/New_York:20251025T173000
DTSTAMP:20260423T145354
CREATED:20250331T234504Z
LAST-MODIFIED:20251024T234851Z
UID:112-1761408000-1761413400@goldandsilverstackerevents.com
SUMMARY:MetalStacks - Gainesville\, Texas Coin Show
DESCRIPTION:Join us for a FREE in depth look at MetalStacks  Coin Collecting Club.  We realize your time is valuable and will focus our time together discussing how to buy precious metals at Wholesale discounts or Dealer Direct pricing through our Bullion Club and discuss the benefits of becoming a MetalStacks Independent Distributor. \nJoin the 200+ Million Americans who purchase metals every single day! \nThe presentation lasts approximately 1 hour as we explore how to maximize your precious metal buying power\, answer your questions and every 30 minutes there will be a FREE give away. \nPresentation of this ticket grants FREE entry on October 25\, 2025 to the coin show and Metalstack event.  Show hours are 9am-5pm.\nWe look forward to seeing you at the event!
URL:https://goldandsilverstackerevents.com/event/metal-stacks-business-opportunity/
LOCATION:Liberty Hall\, 4321 I-35 Frontage Road\, Gainesville\, TX\, 76240\, United States
END:VEVENT
END:VCALENDAR