BEGIN:VCALENDAR
VERSION:2.0
PRODID:-//Gold and Silver Stacker Events - ECPv6.15.20//NONSGML v1.0//EN
CALSCALE:GREGORIAN
METHOD:PUBLISH
X-ORIGINAL-URL:https://goldandsilverstackerevents.com
X-WR-CALDESC:Events for Gold and Silver Stacker Events
REFRESH-INTERVAL;VALUE=DURATION:PT1H
X-Robots-Tag:noindex
X-PUBLISHED-TTL:PT1H
BEGIN:VTIMEZONE
TZID:America/New_York
BEGIN:DAYLIGHT
TZOFFSETFROM:-0500
TZOFFSETTO:-0400
TZNAME:EDT
DTSTART:20250309T070000
END:DAYLIGHT
BEGIN:STANDARD
TZOFFSETFROM:-0400
TZOFFSETTO:-0500
TZNAME:EST
DTSTART:20251102T060000
END:STANDARD
BEGIN:DAYLIGHT
TZOFFSETFROM:-0500
TZOFFSETTO:-0400
TZNAME:EDT
DTSTART:20260308T070000
END:DAYLIGHT
BEGIN:STANDARD
TZOFFSETFROM:-0400
TZOFFSETTO:-0500
TZNAME:EST
DTSTART:20261101T060000
END:STANDARD
BEGIN:DAYLIGHT
TZOFFSETFROM:-0500
TZOFFSETTO:-0400
TZNAME:EDT
DTSTART:20270314T070000
END:DAYLIGHT
BEGIN:STANDARD
TZOFFSETFROM:-0400
TZOFFSETTO:-0500
TZNAME:EST
DTSTART:20271107T060000
END:STANDARD
END:VTIMEZONE
BEGIN:VEVENT
DTSTART;TZID=America/New_York:20261121T160000
DTEND;TZID=America/New_York:20261121T173000
DTSTAMP:20260423T130324
CREATED:20250814T002542Z
LAST-MODIFIED:20251031T180702Z
UID:239-1795276800-1795282200@goldandsilverstackerevents.com
SUMMARY:MetalStacks  – Texarkana\, Texas Coin Show
DESCRIPTION:Join us for a FREE in depth look at what Metalstacks Coin Collecting Club has to offer.  We realize your time is valuable and will focus our time together buy giving you options for how to buy gold and silver at dealer direct pricing and if you decide 6 additional ways to earn income on top of the savings received buying at dealer direct prices. \nThe presentation lasts approximately an hour and a half as we explore the different aspects of Metal Stacks\, answer your questions and every 30 minutes there will be a FREE give away. \nPresentation of this ticket grants FREE entry on November 21\, 2026 to the coin show and Metalstack event.  Show hours are 9am-5pm.\nWe look forward to seeing you at the event!
URL:https://goldandsilverstackerevents.com/event/metal-stacks-texarkana-texas-coin-show-2/
LOCATION:Holiday Inn\, 5200 Convention Plaza Drive\, Texarkana\, TX\, 71854\, United States
END:VEVENT
END:VCALENDAR